BEGIN:VCALENDAR
VERSION:2.0
PRODID:-//hacksw/handcal//NONSGML v1.0//EN
BEGIN:VEVENT
DTSTART:20180914T090000
DTEND:20180914T110000
LOCATION:Ciffop - Maison des Sciences de Gestion \n1, Rue Guy de la Brosse \n75005 PARIS
ORGANIZER;CN=Céline ANFOSSI:MAILTO:celine.anfossi@outlook.fr
SUMMARY:ATELIER CIFFOP   - "Approche scientifique de la marque employeur" le vendredi 14 september 2018 a 9h au Ciffop
DESCRIPTION:Entreprises, organisations publiques, associations, ONGs, quel que soit le statut des personnes qui travaillent au sein de votre organisation, votre marque employeur existe. Elle peut être étudiée et ...
URL:https://www.ciffop-alumni.com/fr/event/atelier-ciffop-approche-scientifique-de-la-marque-employeur-le-vendredi-14-september-2018-a-9h-au-ciffop/2018/09/14/145
BEGIN:VALARM
TRIGGER:-P0DT1H0M0S
ACTION:DISPLAY
END:VALARM
END:VEVENT
END:VCALENDAR